BEGIN:VCALENDAR
VERSION:2.0
PRODID:-//Good ol&#039;Days Bar and Grill - ECPv6.15.20//NONSGML v1.0//EN
CALSCALE:GREGORIAN
METHOD:PUBLISH
X-WR-CALNAME:Good ol&#039;Days Bar and Grill
X-ORIGINAL-URL:https://goodoldaysbarandgrill.com
X-WR-CALDESC:Events for Good ol&#039;Days Bar and Grill
REFRESH-INTERVAL;VALUE=DURATION:PT1H
X-Robots-Tag:noindex
X-PUBLISHED-TTL:PT1H
BEGIN:VTIMEZONE
TZID:UTC
BEGIN:STANDARD
TZOFFSETFROM:+0000
TZOFFSETTO:+0000
TZNAME:UTC
DTSTART:20250101T000000
END:STANDARD
END:VTIMEZONE
BEGIN:VEVENT
DTSTART;TZID=UTC:20260422T193000
DTEND;TZID=UTC:20260422T235900
DTSTAMP:20260419T145531
CREATED:20260219T005542Z
LAST-MODIFIED:20260219T005637Z
UID:10078722-1776886200-1776902340@goodoldaysbarandgrill.com
SUMMARY:Wednesday Trivioke!
DESCRIPTION:So popular we had to add another day and mixing it up with some trivia too! Come sing to your heart’s content every wednesday starting at 7:30pm and answer a few questions to win house cash! Pizza slices with 1 topping for $3.00 \nWe Have Pizza Specials!
URL:https://goodoldaysbarandgrill.com/events/total-request-video-slice-night-2024-01-03-2024-07-10-2/2026-04-22/
ATTACH;FMTTYPE=image/png:https://goodoldaysbarandgrill.com/wp-content/uploads/2022/01/Pub-Quiz-Karaoke.png
END:VEVENT
BEGIN:VEVENT
DTSTART;TZID=UTC:20260429T193000
DTEND;TZID=UTC:20260429T235900
DTSTAMP:20260419T145531
CREATED:20260219T005542Z
LAST-MODIFIED:20260219T005637Z
UID:10078723-1777491000-1777507140@goodoldaysbarandgrill.com
SUMMARY:Wednesday Trivioke!
DESCRIPTION:So popular we had to add another day and mixing it up with some trivia too! Come sing to your heart’s content every wednesday starting at 7:30pm and answer a few questions to win house cash! Pizza slices with 1 topping for $3.00 \nWe Have Pizza Specials!
URL:https://goodoldaysbarandgrill.com/events/total-request-video-slice-night-2024-01-03-2024-07-10-2/2026-04-29/
ATTACH;FMTTYPE=image/png:https://goodoldaysbarandgrill.com/wp-content/uploads/2022/01/Pub-Quiz-Karaoke.png
END:VEVENT
BEGIN:VEVENT
DTSTART;TZID=UTC:20260506T193000
DTEND;TZID=UTC:20260506T235900
DTSTAMP:20260419T145531
CREATED:20260219T005542Z
LAST-MODIFIED:20260219T005637Z
UID:10078724-1778095800-1778111940@goodoldaysbarandgrill.com
SUMMARY:Wednesday Trivioke!
DESCRIPTION:So popular we had to add another day and mixing it up with some trivia too! Come sing to your heart’s content every wednesday starting at 7:30pm and answer a few questions to win house cash! Pizza slices with 1 topping for $3.00 \nWe Have Pizza Specials!
URL:https://goodoldaysbarandgrill.com/events/total-request-video-slice-night-2024-01-03-2024-07-10-2/2026-05-06/
ATTACH;FMTTYPE=image/png:https://goodoldaysbarandgrill.com/wp-content/uploads/2022/01/Pub-Quiz-Karaoke.png
END:VEVENT
BEGIN:VEVENT
DTSTART;TZID=UTC:20260513T193000
DTEND;TZID=UTC:20260513T235900
DTSTAMP:20260419T145531
CREATED:20260219T005542Z
LAST-MODIFIED:20260219T005637Z
UID:10078725-1778700600-1778716740@goodoldaysbarandgrill.com
SUMMARY:Wednesday Trivioke!
DESCRIPTION:So popular we had to add another day and mixing it up with some trivia too! Come sing to your heart’s content every wednesday starting at 7:30pm and answer a few questions to win house cash! Pizza slices with 1 topping for $3.00 \nWe Have Pizza Specials!
URL:https://goodoldaysbarandgrill.com/events/total-request-video-slice-night-2024-01-03-2024-07-10-2/2026-05-13/
ATTACH;FMTTYPE=image/png:https://goodoldaysbarandgrill.com/wp-content/uploads/2022/01/Pub-Quiz-Karaoke.png
END:VEVENT
BEGIN:VEVENT
DTSTART;TZID=UTC:20260520T193000
DTEND;TZID=UTC:20260520T235900
DTSTAMP:20260419T145531
CREATED:20260219T005542Z
LAST-MODIFIED:20260219T005637Z
UID:10078726-1779305400-1779321540@goodoldaysbarandgrill.com
SUMMARY:Wednesday Trivioke!
DESCRIPTION:So popular we had to add another day and mixing it up with some trivia too! Come sing to your heart’s content every wednesday starting at 7:30pm and answer a few questions to win house cash! Pizza slices with 1 topping for $3.00 \nWe Have Pizza Specials!
URL:https://goodoldaysbarandgrill.com/events/total-request-video-slice-night-2024-01-03-2024-07-10-2/2026-05-20/
ATTACH;FMTTYPE=image/png:https://goodoldaysbarandgrill.com/wp-content/uploads/2022/01/Pub-Quiz-Karaoke.png
END:VEVENT
BEGIN:VEVENT
DTSTART;TZID=UTC:20260527T193000
DTEND;TZID=UTC:20260527T235900
DTSTAMP:20260419T145531
CREATED:20260219T005542Z
LAST-MODIFIED:20260219T005637Z
UID:10078727-1779910200-1779926340@goodoldaysbarandgrill.com
SUMMARY:Wednesday Trivioke!
DESCRIPTION:So popular we had to add another day and mixing it up with some trivia too! Come sing to your heart’s content every wednesday starting at 7:30pm and answer a few questions to win house cash! Pizza slices with 1 topping for $3.00 \nWe Have Pizza Specials!
URL:https://goodoldaysbarandgrill.com/events/total-request-video-slice-night-2024-01-03-2024-07-10-2/2026-05-27/
ATTACH;FMTTYPE=image/png:https://goodoldaysbarandgrill.com/wp-content/uploads/2022/01/Pub-Quiz-Karaoke.png
END:VEVENT
BEGIN:VEVENT
DTSTART;TZID=UTC:20260603T193000
DTEND;TZID=UTC:20260603T235900
DTSTAMP:20260419T145531
CREATED:20260219T005542Z
LAST-MODIFIED:20260219T005637Z
UID:10078728-1780515000-1780531140@goodoldaysbarandgrill.com
SUMMARY:Wednesday Trivioke!
DESCRIPTION:So popular we had to add another day and mixing it up with some trivia too! Come sing to your heart’s content every wednesday starting at 7:30pm and answer a few questions to win house cash! Pizza slices with 1 topping for $3.00 \nWe Have Pizza Specials!
URL:https://goodoldaysbarandgrill.com/events/total-request-video-slice-night-2024-01-03-2024-07-10-2/2026-06-03/
ATTACH;FMTTYPE=image/png:https://goodoldaysbarandgrill.com/wp-content/uploads/2022/01/Pub-Quiz-Karaoke.png
END:VEVENT
BEGIN:VEVENT
DTSTART;TZID=UTC:20260610T193000
DTEND;TZID=UTC:20260610T235900
DTSTAMP:20260419T145531
CREATED:20260219T005542Z
LAST-MODIFIED:20260219T005637Z
UID:10078729-1781119800-1781135940@goodoldaysbarandgrill.com
SUMMARY:Wednesday Trivioke!
DESCRIPTION:So popular we had to add another day and mixing it up with some trivia too! Come sing to your heart’s content every wednesday starting at 7:30pm and answer a few questions to win house cash! Pizza slices with 1 topping for $3.00 \nWe Have Pizza Specials!
URL:https://goodoldaysbarandgrill.com/events/total-request-video-slice-night-2024-01-03-2024-07-10-2/2026-06-10/
ATTACH;FMTTYPE=image/png:https://goodoldaysbarandgrill.com/wp-content/uploads/2022/01/Pub-Quiz-Karaoke.png
END:VEVENT
BEGIN:VEVENT
DTSTART;TZID=UTC:20260617T193000
DTEND;TZID=UTC:20260617T235900
DTSTAMP:20260419T145531
CREATED:20260219T005542Z
LAST-MODIFIED:20260219T005637Z
UID:10078730-1781724600-1781740740@goodoldaysbarandgrill.com
SUMMARY:Wednesday Trivioke!
DESCRIPTION:So popular we had to add another day and mixing it up with some trivia too! Come sing to your heart’s content every wednesday starting at 7:30pm and answer a few questions to win house cash! Pizza slices with 1 topping for $3.00 \nWe Have Pizza Specials!
URL:https://goodoldaysbarandgrill.com/events/total-request-video-slice-night-2024-01-03-2024-07-10-2/2026-06-17/
ATTACH;FMTTYPE=image/png:https://goodoldaysbarandgrill.com/wp-content/uploads/2022/01/Pub-Quiz-Karaoke.png
END:VEVENT
BEGIN:VEVENT
DTSTART;TZID=UTC:20260624T193000
DTEND;TZID=UTC:20260624T235900
DTSTAMP:20260419T145531
CREATED:20260219T005542Z
LAST-MODIFIED:20260219T005637Z
UID:10078731-1782329400-1782345540@goodoldaysbarandgrill.com
SUMMARY:Wednesday Trivioke!
DESCRIPTION:So popular we had to add another day and mixing it up with some trivia too! Come sing to your heart’s content every wednesday starting at 7:30pm and answer a few questions to win house cash! Pizza slices with 1 topping for $3.00 \nWe Have Pizza Specials!
URL:https://goodoldaysbarandgrill.com/events/total-request-video-slice-night-2024-01-03-2024-07-10-2/2026-06-24/
ATTACH;FMTTYPE=image/png:https://goodoldaysbarandgrill.com/wp-content/uploads/2022/01/Pub-Quiz-Karaoke.png
END:VEVENT
BEGIN:VEVENT
DTSTART;TZID=UTC:20260701T193000
DTEND;TZID=UTC:20260701T235900
DTSTAMP:20260419T145531
CREATED:20260219T005542Z
LAST-MODIFIED:20260219T005637Z
UID:10078732-1782934200-1782950340@goodoldaysbarandgrill.com
SUMMARY:Wednesday Trivioke!
DESCRIPTION:So popular we had to add another day and mixing it up with some trivia too! Come sing to your heart’s content every wednesday starting at 7:30pm and answer a few questions to win house cash! Pizza slices with 1 topping for $3.00 \nWe Have Pizza Specials!
URL:https://goodoldaysbarandgrill.com/events/total-request-video-slice-night-2024-01-03-2024-07-10-2/2026-07-01/
ATTACH;FMTTYPE=image/png:https://goodoldaysbarandgrill.com/wp-content/uploads/2022/01/Pub-Quiz-Karaoke.png
END:VEVENT
BEGIN:VEVENT
DTSTART;TZID=UTC:20260708T193000
DTEND;TZID=UTC:20260708T235900
DTSTAMP:20260419T145531
CREATED:20260219T005542Z
LAST-MODIFIED:20260219T005637Z
UID:10078733-1783539000-1783555140@goodoldaysbarandgrill.com
SUMMARY:Wednesday Trivioke!
DESCRIPTION:So popular we had to add another day and mixing it up with some trivia too! Come sing to your heart’s content every wednesday starting at 7:30pm and answer a few questions to win house cash! Pizza slices with 1 topping for $3.00 \nWe Have Pizza Specials!
URL:https://goodoldaysbarandgrill.com/events/total-request-video-slice-night-2024-01-03-2024-07-10-2/2026-07-08/
ATTACH;FMTTYPE=image/png:https://goodoldaysbarandgrill.com/wp-content/uploads/2022/01/Pub-Quiz-Karaoke.png
END:VEVENT
BEGIN:VEVENT
DTSTART;TZID=UTC:20260715T193000
DTEND;TZID=UTC:20260715T235900
DTSTAMP:20260419T145531
CREATED:20260219T005542Z
LAST-MODIFIED:20260219T005637Z
UID:10078734-1784143800-1784159940@goodoldaysbarandgrill.com
SUMMARY:Wednesday Trivioke!
DESCRIPTION:So popular we had to add another day and mixing it up with some trivia too! Come sing to your heart’s content every wednesday starting at 7:30pm and answer a few questions to win house cash! Pizza slices with 1 topping for $3.00 \nWe Have Pizza Specials!
URL:https://goodoldaysbarandgrill.com/events/total-request-video-slice-night-2024-01-03-2024-07-10-2/2026-07-15/
ATTACH;FMTTYPE=image/png:https://goodoldaysbarandgrill.com/wp-content/uploads/2022/01/Pub-Quiz-Karaoke.png
END:VEVENT
BEGIN:VEVENT
DTSTART;TZID=UTC:20260722T193000
DTEND;TZID=UTC:20260722T235900
DTSTAMP:20260419T145531
CREATED:20260219T005542Z
LAST-MODIFIED:20260219T005637Z
UID:10078735-1784748600-1784764740@goodoldaysbarandgrill.com
SUMMARY:Wednesday Trivioke!
DESCRIPTION:So popular we had to add another day and mixing it up with some trivia too! Come sing to your heart’s content every wednesday starting at 7:30pm and answer a few questions to win house cash! Pizza slices with 1 topping for $3.00 \nWe Have Pizza Specials!
URL:https://goodoldaysbarandgrill.com/events/total-request-video-slice-night-2024-01-03-2024-07-10-2/2026-07-22/
ATTACH;FMTTYPE=image/png:https://goodoldaysbarandgrill.com/wp-content/uploads/2022/01/Pub-Quiz-Karaoke.png
END:VEVENT
BEGIN:VEVENT
DTSTART;TZID=UTC:20260729T193000
DTEND;TZID=UTC:20260729T235900
DTSTAMP:20260419T145531
CREATED:20260219T005542Z
LAST-MODIFIED:20260219T005637Z
UID:10078736-1785353400-1785369540@goodoldaysbarandgrill.com
SUMMARY:Wednesday Trivioke!
DESCRIPTION:So popular we had to add another day and mixing it up with some trivia too! Come sing to your heart’s content every wednesday starting at 7:30pm and answer a few questions to win house cash! Pizza slices with 1 topping for $3.00 \nWe Have Pizza Specials!
URL:https://goodoldaysbarandgrill.com/events/total-request-video-slice-night-2024-01-03-2024-07-10-2/2026-07-29/
ATTACH;FMTTYPE=image/png:https://goodoldaysbarandgrill.com/wp-content/uploads/2022/01/Pub-Quiz-Karaoke.png
END:VEVENT
BEGIN:VEVENT
DTSTART;TZID=UTC:20260805T193000
DTEND;TZID=UTC:20260805T235900
DTSTAMP:20260419T145531
CREATED:20260219T005542Z
LAST-MODIFIED:20260219T005637Z
UID:10078737-1785958200-1785974340@goodoldaysbarandgrill.com
SUMMARY:Wednesday Trivioke!
DESCRIPTION:So popular we had to add another day and mixing it up with some trivia too! Come sing to your heart’s content every wednesday starting at 7:30pm and answer a few questions to win house cash! Pizza slices with 1 topping for $3.00 \nWe Have Pizza Specials!
URL:https://goodoldaysbarandgrill.com/events/total-request-video-slice-night-2024-01-03-2024-07-10-2/2026-08-05/
ATTACH;FMTTYPE=image/png:https://goodoldaysbarandgrill.com/wp-content/uploads/2022/01/Pub-Quiz-Karaoke.png
END:VEVENT
BEGIN:VEVENT
DTSTART;TZID=UTC:20260812T193000
DTEND;TZID=UTC:20260812T235900
DTSTAMP:20260419T145531
CREATED:20260219T005542Z
LAST-MODIFIED:20260219T005637Z
UID:10078738-1786563000-1786579140@goodoldaysbarandgrill.com
SUMMARY:Wednesday Trivioke!
DESCRIPTION:So popular we had to add another day and mixing it up with some trivia too! Come sing to your heart’s content every wednesday starting at 7:30pm and answer a few questions to win house cash! Pizza slices with 1 topping for $3.00 \nWe Have Pizza Specials!
URL:https://goodoldaysbarandgrill.com/events/total-request-video-slice-night-2024-01-03-2024-07-10-2/2026-08-12/
ATTACH;FMTTYPE=image/png:https://goodoldaysbarandgrill.com/wp-content/uploads/2022/01/Pub-Quiz-Karaoke.png
END:VEVENT
BEGIN:VEVENT
DTSTART;TZID=UTC:20260819T193000
DTEND;TZID=UTC:20260819T235900
DTSTAMP:20260419T145531
CREATED:20260219T005542Z
LAST-MODIFIED:20260219T005637Z
UID:10078739-1787167800-1787183940@goodoldaysbarandgrill.com
SUMMARY:Wednesday Trivioke!
DESCRIPTION:So popular we had to add another day and mixing it up with some trivia too! Come sing to your heart’s content every wednesday starting at 7:30pm and answer a few questions to win house cash! Pizza slices with 1 topping for $3.00 \nWe Have Pizza Specials!
URL:https://goodoldaysbarandgrill.com/events/total-request-video-slice-night-2024-01-03-2024-07-10-2/2026-08-19/
ATTACH;FMTTYPE=image/png:https://goodoldaysbarandgrill.com/wp-content/uploads/2022/01/Pub-Quiz-Karaoke.png
END:VEVENT
BEGIN:VEVENT
DTSTART;TZID=UTC:20260826T193000
DTEND;TZID=UTC:20260826T235900
DTSTAMP:20260419T145531
CREATED:20260219T005542Z
LAST-MODIFIED:20260219T005637Z
UID:10078740-1787772600-1787788740@goodoldaysbarandgrill.com
SUMMARY:Wednesday Trivioke!
DESCRIPTION:So popular we had to add another day and mixing it up with some trivia too! Come sing to your heart’s content every wednesday starting at 7:30pm and answer a few questions to win house cash! Pizza slices with 1 topping for $3.00 \nWe Have Pizza Specials!
URL:https://goodoldaysbarandgrill.com/events/total-request-video-slice-night-2024-01-03-2024-07-10-2/2026-08-26/
ATTACH;FMTTYPE=image/png:https://goodoldaysbarandgrill.com/wp-content/uploads/2022/01/Pub-Quiz-Karaoke.png
END:VEVENT
BEGIN:VEVENT
DTSTART;TZID=UTC:20260902T193000
DTEND;TZID=UTC:20260902T235900
DTSTAMP:20260419T145531
CREATED:20260219T005542Z
LAST-MODIFIED:20260219T005637Z
UID:10078741-1788377400-1788393540@goodoldaysbarandgrill.com
SUMMARY:Wednesday Trivioke!
DESCRIPTION:So popular we had to add another day and mixing it up with some trivia too! Come sing to your heart’s content every wednesday starting at 7:30pm and answer a few questions to win house cash! Pizza slices with 1 topping for $3.00 \nWe Have Pizza Specials!
URL:https://goodoldaysbarandgrill.com/events/total-request-video-slice-night-2024-01-03-2024-07-10-2/2026-09-02/
ATTACH;FMTTYPE=image/png:https://goodoldaysbarandgrill.com/wp-content/uploads/2022/01/Pub-Quiz-Karaoke.png
END:VEVENT
BEGIN:VEVENT
DTSTART;TZID=UTC:20260909T193000
DTEND;TZID=UTC:20260909T235900
DTSTAMP:20260419T145531
CREATED:20260219T005542Z
LAST-MODIFIED:20260219T005637Z
UID:10078742-1788982200-1788998340@goodoldaysbarandgrill.com
SUMMARY:Wednesday Trivioke!
DESCRIPTION:So popular we had to add another day and mixing it up with some trivia too! Come sing to your heart’s content every wednesday starting at 7:30pm and answer a few questions to win house cash! Pizza slices with 1 topping for $3.00 \nWe Have Pizza Specials!
URL:https://goodoldaysbarandgrill.com/events/total-request-video-slice-night-2024-01-03-2024-07-10-2/2026-09-09/
ATTACH;FMTTYPE=image/png:https://goodoldaysbarandgrill.com/wp-content/uploads/2022/01/Pub-Quiz-Karaoke.png
END:VEVENT
BEGIN:VEVENT
DTSTART;TZID=UTC:20260916T193000
DTEND;TZID=UTC:20260916T235900
DTSTAMP:20260419T145532
CREATED:20260219T005542Z
LAST-MODIFIED:20260219T005637Z
UID:10078743-1789587000-1789603140@goodoldaysbarandgrill.com
SUMMARY:Wednesday Trivioke!
DESCRIPTION:So popular we had to add another day and mixing it up with some trivia too! Come sing to your heart’s content every wednesday starting at 7:30pm and answer a few questions to win house cash! Pizza slices with 1 topping for $3.00 \nWe Have Pizza Specials!
URL:https://goodoldaysbarandgrill.com/events/total-request-video-slice-night-2024-01-03-2024-07-10-2/2026-09-16/
ATTACH;FMTTYPE=image/png:https://goodoldaysbarandgrill.com/wp-content/uploads/2022/01/Pub-Quiz-Karaoke.png
END:VEVENT
BEGIN:VEVENT
DTSTART;TZID=UTC:20260923T193000
DTEND;TZID=UTC:20260923T235900
DTSTAMP:20260419T145532
CREATED:20260219T005542Z
LAST-MODIFIED:20260219T005637Z
UID:10078744-1790191800-1790207940@goodoldaysbarandgrill.com
SUMMARY:Wednesday Trivioke!
DESCRIPTION:So popular we had to add another day and mixing it up with some trivia too! Come sing to your heart’s content every wednesday starting at 7:30pm and answer a few questions to win house cash! Pizza slices with 1 topping for $3.00 \nWe Have Pizza Specials!
URL:https://goodoldaysbarandgrill.com/events/total-request-video-slice-night-2024-01-03-2024-07-10-2/2026-09-23/
ATTACH;FMTTYPE=image/png:https://goodoldaysbarandgrill.com/wp-content/uploads/2022/01/Pub-Quiz-Karaoke.png
END:VEVENT
BEGIN:VEVENT
DTSTART;TZID=UTC:20260930T193000
DTEND;TZID=UTC:20260930T235900
DTSTAMP:20260419T145532
CREATED:20260219T005542Z
LAST-MODIFIED:20260219T005637Z
UID:10078745-1790796600-1790812740@goodoldaysbarandgrill.com
SUMMARY:Wednesday Trivioke!
DESCRIPTION:So popular we had to add another day and mixing it up with some trivia too! Come sing to your heart’s content every wednesday starting at 7:30pm and answer a few questions to win house cash! Pizza slices with 1 topping for $3.00 \nWe Have Pizza Specials!
URL:https://goodoldaysbarandgrill.com/events/total-request-video-slice-night-2024-01-03-2024-07-10-2/2026-09-30/
ATTACH;FMTTYPE=image/png:https://goodoldaysbarandgrill.com/wp-content/uploads/2022/01/Pub-Quiz-Karaoke.png
END:VEVENT
BEGIN:VEVENT
DTSTART;TZID=UTC:20261007T193000
DTEND;TZID=UTC:20261007T235900
DTSTAMP:20260419T145532
CREATED:20260219T005542Z
LAST-MODIFIED:20260219T005637Z
UID:10078746-1791401400-1791417540@goodoldaysbarandgrill.com
SUMMARY:Wednesday Trivioke!
DESCRIPTION:So popular we had to add another day and mixing it up with some trivia too! Come sing to your heart’s content every wednesday starting at 7:30pm and answer a few questions to win house cash! Pizza slices with 1 topping for $3.00 \nWe Have Pizza Specials!
URL:https://goodoldaysbarandgrill.com/events/total-request-video-slice-night-2024-01-03-2024-07-10-2/2026-10-07/
ATTACH;FMTTYPE=image/png:https://goodoldaysbarandgrill.com/wp-content/uploads/2022/01/Pub-Quiz-Karaoke.png
END:VEVENT
BEGIN:VEVENT
DTSTART;TZID=UTC:20261014T193000
DTEND;TZID=UTC:20261014T235900
DTSTAMP:20260419T145532
CREATED:20260219T005542Z
LAST-MODIFIED:20260219T005637Z
UID:10078747-1792006200-1792022340@goodoldaysbarandgrill.com
SUMMARY:Wednesday Trivioke!
DESCRIPTION:So popular we had to add another day and mixing it up with some trivia too! Come sing to your heart’s content every wednesday starting at 7:30pm and answer a few questions to win house cash! Pizza slices with 1 topping for $3.00 \nWe Have Pizza Specials!
URL:https://goodoldaysbarandgrill.com/events/total-request-video-slice-night-2024-01-03-2024-07-10-2/2026-10-14/
ATTACH;FMTTYPE=image/png:https://goodoldaysbarandgrill.com/wp-content/uploads/2022/01/Pub-Quiz-Karaoke.png
END:VEVENT
BEGIN:VEVENT
DTSTART;TZID=UTC:20261021T193000
DTEND;TZID=UTC:20261021T235900
DTSTAMP:20260419T145532
CREATED:20260219T005542Z
LAST-MODIFIED:20260219T005637Z
UID:10078748-1792611000-1792627140@goodoldaysbarandgrill.com
SUMMARY:Wednesday Trivioke!
DESCRIPTION:So popular we had to add another day and mixing it up with some trivia too! Come sing to your heart’s content every wednesday starting at 7:30pm and answer a few questions to win house cash! Pizza slices with 1 topping for $3.00 \nWe Have Pizza Specials!
URL:https://goodoldaysbarandgrill.com/events/total-request-video-slice-night-2024-01-03-2024-07-10-2/2026-10-21/
ATTACH;FMTTYPE=image/png:https://goodoldaysbarandgrill.com/wp-content/uploads/2022/01/Pub-Quiz-Karaoke.png
END:VEVENT
BEGIN:VEVENT
DTSTART;TZID=UTC:20261028T193000
DTEND;TZID=UTC:20261028T235900
DTSTAMP:20260419T145532
CREATED:20260219T005542Z
LAST-MODIFIED:20260219T005637Z
UID:10078749-1793215800-1793231940@goodoldaysbarandgrill.com
SUMMARY:Wednesday Trivioke!
DESCRIPTION:So popular we had to add another day and mixing it up with some trivia too! Come sing to your heart’s content every wednesday starting at 7:30pm and answer a few questions to win house cash! Pizza slices with 1 topping for $3.00 \nWe Have Pizza Specials!
URL:https://goodoldaysbarandgrill.com/events/total-request-video-slice-night-2024-01-03-2024-07-10-2/2026-10-28/
ATTACH;FMTTYPE=image/png:https://goodoldaysbarandgrill.com/wp-content/uploads/2022/01/Pub-Quiz-Karaoke.png
END:VEVENT
BEGIN:VEVENT
DTSTART;TZID=UTC:20261104T193000
DTEND;TZID=UTC:20261104T235900
DTSTAMP:20260419T145532
CREATED:20260219T005542Z
LAST-MODIFIED:20260219T005637Z
UID:10078750-1793820600-1793836740@goodoldaysbarandgrill.com
SUMMARY:Wednesday Trivioke!
DESCRIPTION:So popular we had to add another day and mixing it up with some trivia too! Come sing to your heart’s content every wednesday starting at 7:30pm and answer a few questions to win house cash! Pizza slices with 1 topping for $3.00 \nWe Have Pizza Specials!
URL:https://goodoldaysbarandgrill.com/events/total-request-video-slice-night-2024-01-03-2024-07-10-2/2026-11-04/
ATTACH;FMTTYPE=image/png:https://goodoldaysbarandgrill.com/wp-content/uploads/2022/01/Pub-Quiz-Karaoke.png
END:VEVENT
BEGIN:VEVENT
DTSTART;TZID=UTC:20261111T193000
DTEND;TZID=UTC:20261111T235900
DTSTAMP:20260419T145532
CREATED:20260219T005542Z
LAST-MODIFIED:20260219T005637Z
UID:10078751-1794425400-1794441540@goodoldaysbarandgrill.com
SUMMARY:Wednesday Trivioke!
DESCRIPTION:So popular we had to add another day and mixing it up with some trivia too! Come sing to your heart’s content every wednesday starting at 7:30pm and answer a few questions to win house cash! Pizza slices with 1 topping for $3.00 \nWe Have Pizza Specials!
URL:https://goodoldaysbarandgrill.com/events/total-request-video-slice-night-2024-01-03-2024-07-10-2/2026-11-11/
ATTACH;FMTTYPE=image/png:https://goodoldaysbarandgrill.com/wp-content/uploads/2022/01/Pub-Quiz-Karaoke.png
END:VEVENT
END:VCALENDAR