BEGIN:VCALENDAR
VERSION:2.0
PRODID:-//Good ol&#039;Days Bar and Grill - ECPv6.15.20//NONSGML v1.0//EN
CALSCALE:GREGORIAN
METHOD:PUBLISH
X-WR-CALNAME:Good ol&#039;Days Bar and Grill
X-ORIGINAL-URL:https://goodoldaysbarandgrill.com
X-WR-CALDESC:Events for Good ol&#039;Days Bar and Grill
REFRESH-INTERVAL;VALUE=DURATION:PT1H
X-Robots-Tag:noindex
X-PUBLISHED-TTL:PT1H
BEGIN:VTIMEZONE
TZID:UTC
BEGIN:STANDARD
TZOFFSETFROM:+0000
TZOFFSETTO:+0000
TZNAME:UTC
DTSTART:20250101T000000
END:STANDARD
END:VTIMEZONE
BEGIN:VTIMEZONE
TZID:America/New_York
BEGIN:DAYLIGHT
TZOFFSETFROM:-0500
TZOFFSETTO:-0400
TZNAME:EDT
DTSTART:20250309T070000
END:DAYLIGHT
BEGIN:STANDARD
TZOFFSETFROM:-0400
TZOFFSETTO:-0500
TZNAME:EST
DTSTART:20251102T060000
END:STANDARD
BEGIN:DAYLIGHT
TZOFFSETFROM:-0500
TZOFFSETTO:-0400
TZNAME:EDT
DTSTART:20260308T070000
END:DAYLIGHT
BEGIN:STANDARD
TZOFFSETFROM:-0400
TZOFFSETTO:-0500
TZNAME:EST
DTSTART:20261101T060000
END:STANDARD
BEGIN:DAYLIGHT
TZOFFSETFROM:-0500
TZOFFSETTO:-0400
TZNAME:EDT
DTSTART:20270314T070000
END:DAYLIGHT
BEGIN:STANDARD
TZOFFSETFROM:-0400
TZOFFSETTO:-0500
TZNAME:EST
DTSTART:20271107T060000
END:STANDARD
END:VTIMEZONE
BEGIN:VEVENT
DTSTART;TZID=UTC:20260301T120000
DTEND;TZID=UTC:20260301T230000
DTSTAMP:20260419T145256
CREATED:20250219T022917Z
LAST-MODIFIED:20260227T195906Z
UID:10002406-1772366400-1772406000@goodoldaysbarandgrill.com
SUMMARY:Sunday Funday cheap pitchers\, pizzas and wings
DESCRIPTION:Come finish the weekend with an $9.50 one topping pizza\, $1.00 wings and a $9.50 domestic pitcher.
URL:https://goodoldaysbarandgrill.com/events/sunday-funday-cheap-ptichers-pizzas-and-wings-2/2026-03-01/
LOCATION:Good ol’ Days Bar and Grill\, Cumming\, GA\, United States\, United States
ATTACH;FMTTYPE=image/jpeg:https://goodoldaysbarandgrill.com/wp-content/uploads/2020/09/Wings.jpg
END:VEVENT
BEGIN:VEVENT
DTSTART;TZID=UTC:20260302T180000
DTEND;TZID=UTC:20260302T235900
DTSTAMP:20260419T145256
CREATED:20200903T044750Z
LAST-MODIFIED:20240128T202956Z
UID:10001064-1772474400-1772495940@goodoldaysbarandgrill.com
SUMMARY:Industry Night
DESCRIPTION:Come on in and get some relief from the weekend grind. Cheap beer and cheap shots to keep more dough in your fridge. $2.50 PBR\, $9.50 Pitchers of PBR and $3.00 Kamikaze’s
URL:https://goodoldaysbarandgrill.com/events/industry-night/2026-03-02/
ATTACH;FMTTYPE=image/png:https://goodoldaysbarandgrill.com/wp-content/uploads/2020/09/Industry-night-1-1.png
END:VEVENT
BEGIN:VEVENT
DTSTART;TZID=America/New_York:20260303T110000
DTEND;TZID=America/New_York:20260303T235900
DTSTAMP:20260419T145256
CREATED:20250528T012537Z
LAST-MODIFIED:20250528T012537Z
UID:10078539-1772535600-1772582340@goodoldaysbarandgrill.com
SUMMARY:$3.00 Taco Tuesday!
DESCRIPTION:Not your skimpy street taco!  chicken or beef tacos on a full size shell with lettuce\, tomato\, onion\, cheddar jack cheese and cilantro sour cream.  Here or TOGO!
URL:https://goodoldaysbarandgrill.com/events/3-00-taco-tuesday/2026-03-03/
ATTACH;FMTTYPE=image/jpeg:https://goodoldaysbarandgrill.com/wp-content/uploads/2021/10/Taco-Tues-danny.jpg
END:VEVENT
BEGIN:VEVENT
DTSTART;TZID=UTC:20260304T193000
DTEND;TZID=UTC:20260304T235900
DTSTAMP:20260419T145256
CREATED:20260219T005542Z
LAST-MODIFIED:20260219T005637Z
UID:10078715-1772652600-1772668740@goodoldaysbarandgrill.com
SUMMARY:Wednesday Trivioke!
DESCRIPTION:So popular we had to add another day and mixing it up with some trivia too! Come sing to your heart’s content every wednesday starting at 7:30pm and answer a few questions to win house cash! Pizza slices with 1 topping for $3.00 \nWe Have Pizza Specials!
URL:https://goodoldaysbarandgrill.com/events/total-request-video-slice-night-2024-01-03-2024-07-10-2/2026-03-04/
ATTACH;FMTTYPE=image/png:https://goodoldaysbarandgrill.com/wp-content/uploads/2022/01/Pub-Quiz-Karaoke.png
END:VEVENT
BEGIN:VEVENT
DTSTART;TZID=UTC:20260305T210000
DTEND;TZID=UTC:20260305T235900
DTSTAMP:20260419T145256
CREATED:20200901T073012Z
LAST-MODIFIED:20260227T195556Z
UID:10000339-1772744400-1772755140@goodoldaysbarandgrill.com
SUMMARY:Karaoke Wing and Sing Night!
DESCRIPTION:Come sing and wing at 9pm with DJ K.O.! Get here early and get some $1.50 wings with your favorite hot sauce and sing a tune or three! Wings are $1.00 each\, 5-10-15-20-50 increments \nSpicy Homemade Buffalo Wings
URL:https://goodoldaysbarandgrill.com/events/karaoke-wing-and-sing-night/2026-03-05/
ATTACH;FMTTYPE=image/jpeg:https://goodoldaysbarandgrill.com/wp-content/uploads/2020/09/My-project-1.jpg
END:VEVENT
BEGIN:VEVENT
DTSTART;TZID=America/New_York:20260306T210000
DTEND;TZID=America/New_York:20260306T235900
DTSTAMP:20260419T145256
CREATED:20250728T225108Z
LAST-MODIFIED:20260219T010202Z
UID:10078643-1772830800-1772841540@goodoldaysbarandgrill.com
SUMMARY:Donny Hammonds Band
DESCRIPTION:Categories\n\n\n\n\n\n\n\nMusician/band\n\n\n\n\n\n\n\n\n\n\nContact info\n\n\n\n\n\n\n\n\n\n\n\n+1 770-608-5819\n\n\n\n\n\nMobile\n\n\n\n\n\n\n\n\n\n\n\n\n\n\n\n\n\n\n\n\n\n\ntheafterdarkstudio@yahoo.com\n\n\n\n\n\nEmail\n\n\n\n\n\n\n\n\n\n\n\n\n\n\n\n\n\n\n\nWebsites and social links\n\n\n\n\n\n\n\n\n\n\n\nhttp://www.thedonnyhammondsband.com/
URL:https://goodoldaysbarandgrill.com/events/donny-hammonds-band/
LOCATION:Good ol’ Days Bar and Grill\, Cumming\, GA\, United States\, United States
ATTACH;FMTTYPE=image/jpeg:https://goodoldaysbarandgrill.com/wp-content/uploads/2025/07/Donny-Hammonds.jpg
END:VEVENT
BEGIN:VEVENT
DTSTART;TZID=America/New_York:20260307T210000
DTEND;TZID=America/New_York:20260307T235900
DTSTAMP:20260419T145256
CREATED:20241029T015144Z
LAST-MODIFIED:20260219T010429Z
UID:10002296-1772917200-1772927940@goodoldaysbarandgrill.com
SUMMARY:High Cotton
DESCRIPTION:They are The High Cotton\, a country southern rock band from North Georgia.
URL:https://goodoldaysbarandgrill.com/events/high-cotton/
ATTACH;FMTTYPE=image/jpeg:https://goodoldaysbarandgrill.com/wp-content/uploads/2024/10/High-Cotton.jpg
END:VEVENT
BEGIN:VEVENT
DTSTART;TZID=UTC:20260308T120000
DTEND;TZID=UTC:20260308T230000
DTSTAMP:20260419T145256
CREATED:20250219T022917Z
LAST-MODIFIED:20260227T195906Z
UID:10002407-1772971200-1773010800@goodoldaysbarandgrill.com
SUMMARY:Sunday Funday cheap pitchers\, pizzas and wings
DESCRIPTION:Come finish the weekend with an $9.50 one topping pizza\, $1.00 wings and a $9.50 domestic pitcher.
URL:https://goodoldaysbarandgrill.com/events/sunday-funday-cheap-ptichers-pizzas-and-wings-2/2026-03-08/
LOCATION:Good ol’ Days Bar and Grill\, Cumming\, GA\, United States\, United States
ATTACH;FMTTYPE=image/jpeg:https://goodoldaysbarandgrill.com/wp-content/uploads/2020/09/Wings.jpg
END:VEVENT
BEGIN:VEVENT
DTSTART;TZID=UTC:20260309T180000
DTEND;TZID=UTC:20260309T235900
DTSTAMP:20260419T145256
CREATED:20200903T044750Z
LAST-MODIFIED:20240128T202956Z
UID:10001065-1773079200-1773100740@goodoldaysbarandgrill.com
SUMMARY:Industry Night
DESCRIPTION:Come on in and get some relief from the weekend grind. Cheap beer and cheap shots to keep more dough in your fridge. $2.50 PBR\, $9.50 Pitchers of PBR and $3.00 Kamikaze’s
URL:https://goodoldaysbarandgrill.com/events/industry-night/2026-03-09/
ATTACH;FMTTYPE=image/png:https://goodoldaysbarandgrill.com/wp-content/uploads/2020/09/Industry-night-1-1.png
END:VEVENT
BEGIN:VEVENT
DTSTART;TZID=America/New_York:20260310T110000
DTEND;TZID=America/New_York:20260310T235900
DTSTAMP:20260419T145256
CREATED:20250528T012537Z
LAST-MODIFIED:20250528T012537Z
UID:10078540-1773140400-1773187140@goodoldaysbarandgrill.com
SUMMARY:$3.00 Taco Tuesday!
DESCRIPTION:Not your skimpy street taco!  chicken or beef tacos on a full size shell with lettuce\, tomato\, onion\, cheddar jack cheese and cilantro sour cream.  Here or TOGO!
URL:https://goodoldaysbarandgrill.com/events/3-00-taco-tuesday/2026-03-10/
ATTACH;FMTTYPE=image/jpeg:https://goodoldaysbarandgrill.com/wp-content/uploads/2021/10/Taco-Tues-danny.jpg
END:VEVENT
BEGIN:VEVENT
DTSTART;TZID=UTC:20260311T193000
DTEND;TZID=UTC:20260311T235900
DTSTAMP:20260419T145256
CREATED:20260219T005542Z
LAST-MODIFIED:20260219T005637Z
UID:10078716-1773257400-1773273540@goodoldaysbarandgrill.com
SUMMARY:Wednesday Trivioke!
DESCRIPTION:So popular we had to add another day and mixing it up with some trivia too! Come sing to your heart’s content every wednesday starting at 7:30pm and answer a few questions to win house cash! Pizza slices with 1 topping for $3.00 \nWe Have Pizza Specials!
URL:https://goodoldaysbarandgrill.com/events/total-request-video-slice-night-2024-01-03-2024-07-10-2/2026-03-11/
ATTACH;FMTTYPE=image/png:https://goodoldaysbarandgrill.com/wp-content/uploads/2022/01/Pub-Quiz-Karaoke.png
END:VEVENT
BEGIN:VEVENT
DTSTART;TZID=UTC:20260312T210000
DTEND;TZID=UTC:20260312T235900
DTSTAMP:20260419T145256
CREATED:20200901T073012Z
LAST-MODIFIED:20260227T195556Z
UID:10000340-1773349200-1773359940@goodoldaysbarandgrill.com
SUMMARY:Karaoke Wing and Sing Night!
DESCRIPTION:Come sing and wing at 9pm with DJ K.O.! Get here early and get some $1.50 wings with your favorite hot sauce and sing a tune or three! Wings are $1.00 each\, 5-10-15-20-50 increments \nSpicy Homemade Buffalo Wings
URL:https://goodoldaysbarandgrill.com/events/karaoke-wing-and-sing-night/2026-03-12/
ATTACH;FMTTYPE=image/jpeg:https://goodoldaysbarandgrill.com/wp-content/uploads/2020/09/My-project-1.jpg
END:VEVENT
BEGIN:VEVENT
DTSTART;TZID=UTC:20260313T210000
DTEND;TZID=UTC:20260313T235900
DTSTAMP:20260419T145256
CREATED:20200624T064939Z
LAST-MODIFIED:20260219T010537Z
UID:10000025-1773435600-1773446340@goodoldaysbarandgrill.com
SUMMARY:Davis & The Love
DESCRIPTION:All of the dance hits\, all night long! Every genre\, every decade.
URL:https://goodoldaysbarandgrill.com/events/nakd/
LOCATION:Good ol’ Days Bar and Grill\, Cumming\, GA\, United States\, United States
ATTACH;FMTTYPE=image/jpeg:https://goodoldaysbarandgrill.com/wp-content/uploads/2020/06/Davislove.jpg
END:VEVENT
BEGIN:VEVENT
DTSTART;TZID=America/New_York:20260314T210000
DTEND;TZID=America/New_York:20260314T235900
DTSTAMP:20260419T145256
CREATED:20230523T005453Z
LAST-MODIFIED:20260305T182045Z
UID:10002032-1773522000-1773532740@goodoldaysbarandgrill.com
SUMMARY:Don't Tell Danny
DESCRIPTION:Premier rock pulling out all the stops for you! Classic\, Alternative\, 80’s.. The best of the best!
URL:https://goodoldaysbarandgrill.com/events/left-on-main/
ATTACH;FMTTYPE=image/jpeg:https://goodoldaysbarandgrill.com/wp-content/uploads/2023/03/Dont-tell-Danny.jpg
END:VEVENT
BEGIN:VEVENT
DTSTART;TZID=UTC:20260315T120000
DTEND;TZID=UTC:20260315T230000
DTSTAMP:20260419T145256
CREATED:20250219T022917Z
LAST-MODIFIED:20260227T195906Z
UID:10002408-1773576000-1773615600@goodoldaysbarandgrill.com
SUMMARY:Sunday Funday cheap pitchers\, pizzas and wings
DESCRIPTION:Come finish the weekend with an $9.50 one topping pizza\, $1.00 wings and a $9.50 domestic pitcher.
URL:https://goodoldaysbarandgrill.com/events/sunday-funday-cheap-ptichers-pizzas-and-wings-2/2026-03-15/
LOCATION:Good ol’ Days Bar and Grill\, Cumming\, GA\, United States\, United States
ATTACH;FMTTYPE=image/jpeg:https://goodoldaysbarandgrill.com/wp-content/uploads/2020/09/Wings.jpg
END:VEVENT
BEGIN:VEVENT
DTSTART;TZID=UTC:20260316T180000
DTEND;TZID=UTC:20260316T235900
DTSTAMP:20260419T145256
CREATED:20200903T044750Z
LAST-MODIFIED:20240128T202956Z
UID:10001066-1773684000-1773705540@goodoldaysbarandgrill.com
SUMMARY:Industry Night
DESCRIPTION:Come on in and get some relief from the weekend grind. Cheap beer and cheap shots to keep more dough in your fridge. $2.50 PBR\, $9.50 Pitchers of PBR and $3.00 Kamikaze’s
URL:https://goodoldaysbarandgrill.com/events/industry-night/2026-03-16/
ATTACH;FMTTYPE=image/png:https://goodoldaysbarandgrill.com/wp-content/uploads/2020/09/Industry-night-1-1.png
END:VEVENT
BEGIN:VEVENT
DTSTART;TZID=America/New_York:20260317T110000
DTEND;TZID=America/New_York:20260317T235900
DTSTAMP:20260419T145256
CREATED:20250528T012537Z
LAST-MODIFIED:20250528T012537Z
UID:10078541-1773745200-1773791940@goodoldaysbarandgrill.com
SUMMARY:$3.00 Taco Tuesday!
DESCRIPTION:Not your skimpy street taco!  chicken or beef tacos on a full size shell with lettuce\, tomato\, onion\, cheddar jack cheese and cilantro sour cream.  Here or TOGO!
URL:https://goodoldaysbarandgrill.com/events/3-00-taco-tuesday/2026-03-17/
ATTACH;FMTTYPE=image/jpeg:https://goodoldaysbarandgrill.com/wp-content/uploads/2021/10/Taco-Tues-danny.jpg
END:VEVENT
BEGIN:VEVENT
DTSTART;TZID=America/New_York:20260317T110000
DTEND;TZID=America/New_York:20260317T235900
DTSTAMP:20260419T145256
CREATED:20260219T011727Z
LAST-MODIFIED:20260219T011727Z
UID:10078975-1773745200-1773791940@goodoldaysbarandgrill.com
SUMMARY:St. Patrick's Day Shenannigans
DESCRIPTION:Corned beef and cabbage plates\, Cottage pie and others with drink specials\, giveaways and more \nMusic By Remedy and Hot Flash
URL:https://goodoldaysbarandgrill.com/events/st-patricks-day-shenannigans/
ATTACH;FMTTYPE=image/jpeg:https://goodoldaysbarandgrill.com/wp-content/uploads/2026/02/St.-Patricks.jpg
END:VEVENT
BEGIN:VEVENT
DTSTART;TZID=UTC:20260318T193000
DTEND;TZID=UTC:20260318T235900
DTSTAMP:20260419T145256
CREATED:20260219T005542Z
LAST-MODIFIED:20260219T005637Z
UID:10078717-1773862200-1773878340@goodoldaysbarandgrill.com
SUMMARY:Wednesday Trivioke!
DESCRIPTION:So popular we had to add another day and mixing it up with some trivia too! Come sing to your heart’s content every wednesday starting at 7:30pm and answer a few questions to win house cash! Pizza slices with 1 topping for $3.00 \nWe Have Pizza Specials!
URL:https://goodoldaysbarandgrill.com/events/total-request-video-slice-night-2024-01-03-2024-07-10-2/2026-03-18/
ATTACH;FMTTYPE=image/png:https://goodoldaysbarandgrill.com/wp-content/uploads/2022/01/Pub-Quiz-Karaoke.png
END:VEVENT
BEGIN:VEVENT
DTSTART;TZID=UTC:20260319T210000
DTEND;TZID=UTC:20260319T235900
DTSTAMP:20260419T145256
CREATED:20200901T073012Z
LAST-MODIFIED:20260227T195556Z
UID:10000341-1773954000-1773964740@goodoldaysbarandgrill.com
SUMMARY:Karaoke Wing and Sing Night!
DESCRIPTION:Come sing and wing at 9pm with DJ K.O.! Get here early and get some $1.50 wings with your favorite hot sauce and sing a tune or three! Wings are $1.00 each\, 5-10-15-20-50 increments \nSpicy Homemade Buffalo Wings
URL:https://goodoldaysbarandgrill.com/events/karaoke-wing-and-sing-night/2026-03-19/
ATTACH;FMTTYPE=image/jpeg:https://goodoldaysbarandgrill.com/wp-content/uploads/2020/09/My-project-1.jpg
END:VEVENT
BEGIN:VEVENT
DTSTART;TZID=America/New_York:20260320T210000
DTEND;TZID=America/New_York:20260320T235900
DTSTAMP:20260419T145256
CREATED:20250728T224212Z
LAST-MODIFIED:20260219T010732Z
UID:10078642-1774040400-1774051140@goodoldaysbarandgrill.com
SUMMARY:Highway 9 Dance Band
DESCRIPTION:High energy dance infused covers from all genres!
URL:https://goodoldaysbarandgrill.com/events/highway-9-dance-band/
LOCATION:Good ol’ Days Bar and Grill\, Cumming\, GA\, United States\, United States
ATTACH;FMTTYPE=image/jpeg:https://goodoldaysbarandgrill.com/wp-content/uploads/2025/07/Hwy9band.jpg
END:VEVENT
BEGIN:VEVENT
DTSTART;TZID=America/New_York:20260321T210000
DTEND;TZID=America/New_York:20260321T235900
DTSTAMP:20260419T145256
CREATED:20250118T191602Z
LAST-MODIFIED:20260219T010819Z
UID:10002233-1774126800-1774137540@goodoldaysbarandgrill.com
SUMMARY:Jonathan Ingram Band
DESCRIPTION:jonathaningrammusic@gmail.com \njonathaningrammusic.com \nAtlanta Based 90’s Country rock and pop
URL:https://goodoldaysbarandgrill.com/events/jonathan-ingram-band-3/
LOCATION:Good ol’ Days Bar and Grill\, Cumming\, GA\, United States\, United States
ATTACH;FMTTYPE=image/jpeg:https://goodoldaysbarandgrill.com/wp-content/uploads/2025/01/JonathanIngram.jpg
END:VEVENT
BEGIN:VEVENT
DTSTART;TZID=UTC:20260322T120000
DTEND;TZID=UTC:20260322T230000
DTSTAMP:20260419T145256
CREATED:20250219T022917Z
LAST-MODIFIED:20260227T195906Z
UID:10002409-1774180800-1774220400@goodoldaysbarandgrill.com
SUMMARY:Sunday Funday cheap pitchers\, pizzas and wings
DESCRIPTION:Come finish the weekend with an $9.50 one topping pizza\, $1.00 wings and a $9.50 domestic pitcher.
URL:https://goodoldaysbarandgrill.com/events/sunday-funday-cheap-ptichers-pizzas-and-wings-2/2026-03-22/
LOCATION:Good ol’ Days Bar and Grill\, Cumming\, GA\, United States\, United States
ATTACH;FMTTYPE=image/jpeg:https://goodoldaysbarandgrill.com/wp-content/uploads/2020/09/Wings.jpg
END:VEVENT
BEGIN:VEVENT
DTSTART;TZID=UTC:20260323T180000
DTEND;TZID=UTC:20260323T235900
DTSTAMP:20260419T145256
CREATED:20200903T044750Z
LAST-MODIFIED:20240128T202956Z
UID:10001067-1774288800-1774310340@goodoldaysbarandgrill.com
SUMMARY:Industry Night
DESCRIPTION:Come on in and get some relief from the weekend grind. Cheap beer and cheap shots to keep more dough in your fridge. $2.50 PBR\, $9.50 Pitchers of PBR and $3.00 Kamikaze’s
URL:https://goodoldaysbarandgrill.com/events/industry-night/2026-03-23/
ATTACH;FMTTYPE=image/png:https://goodoldaysbarandgrill.com/wp-content/uploads/2020/09/Industry-night-1-1.png
END:VEVENT
BEGIN:VEVENT
DTSTART;TZID=America/New_York:20260324T110000
DTEND;TZID=America/New_York:20260324T235900
DTSTAMP:20260419T145256
CREATED:20250528T012537Z
LAST-MODIFIED:20250528T012537Z
UID:10078542-1774350000-1774396740@goodoldaysbarandgrill.com
SUMMARY:$3.00 Taco Tuesday!
DESCRIPTION:Not your skimpy street taco!  chicken or beef tacos on a full size shell with lettuce\, tomato\, onion\, cheddar jack cheese and cilantro sour cream.  Here or TOGO!
URL:https://goodoldaysbarandgrill.com/events/3-00-taco-tuesday/2026-03-24/
ATTACH;FMTTYPE=image/jpeg:https://goodoldaysbarandgrill.com/wp-content/uploads/2021/10/Taco-Tues-danny.jpg
END:VEVENT
BEGIN:VEVENT
DTSTART;TZID=UTC:20260325T193000
DTEND;TZID=UTC:20260325T235900
DTSTAMP:20260419T145256
CREATED:20260219T005542Z
LAST-MODIFIED:20260219T005637Z
UID:10078718-1774467000-1774483140@goodoldaysbarandgrill.com
SUMMARY:Wednesday Trivioke!
DESCRIPTION:So popular we had to add another day and mixing it up with some trivia too! Come sing to your heart’s content every wednesday starting at 7:30pm and answer a few questions to win house cash! Pizza slices with 1 topping for $3.00 \nWe Have Pizza Specials!
URL:https://goodoldaysbarandgrill.com/events/total-request-video-slice-night-2024-01-03-2024-07-10-2/2026-03-25/
ATTACH;FMTTYPE=image/png:https://goodoldaysbarandgrill.com/wp-content/uploads/2022/01/Pub-Quiz-Karaoke.png
END:VEVENT
BEGIN:VEVENT
DTSTART;TZID=UTC:20260326T210000
DTEND;TZID=UTC:20260326T235900
DTSTAMP:20260419T145256
CREATED:20200901T073012Z
LAST-MODIFIED:20260227T195556Z
UID:10000342-1774558800-1774569540@goodoldaysbarandgrill.com
SUMMARY:Karaoke Wing and Sing Night!
DESCRIPTION:Come sing and wing at 9pm with DJ K.O.! Get here early and get some $1.50 wings with your favorite hot sauce and sing a tune or three! Wings are $1.00 each\, 5-10-15-20-50 increments \nSpicy Homemade Buffalo Wings
URL:https://goodoldaysbarandgrill.com/events/karaoke-wing-and-sing-night/2026-03-26/
ATTACH;FMTTYPE=image/jpeg:https://goodoldaysbarandgrill.com/wp-content/uploads/2020/09/My-project-1.jpg
END:VEVENT
BEGIN:VEVENT
DTSTART;TZID=America/New_York:20260327T210000
DTEND;TZID=America/New_York:20260327T235900
DTSTAMP:20260419T145256
CREATED:20250121T034834Z
LAST-MODIFIED:20260219T010915Z
UID:10001586-1774645200-1774655940@goodoldaysbarandgrill.com
SUMMARY:Nu Wave
DESCRIPTION:Get your new wave 80s party on like it’s 1982! Atlanta favorite new wave party comes to Cumming!
URL:https://goodoldaysbarandgrill.com/events/nu-wave/
ATTACH;FMTTYPE=image/jpeg:https://goodoldaysbarandgrill.com/wp-content/uploads/2025/01/Nuwave.jpg
END:VEVENT
BEGIN:VEVENT
DTSTART;TZID=America/New_York:20260328T210000
DTEND;TZID=America/New_York:20260328T235900
DTSTAMP:20260419T145256
CREATED:20241126T032700Z
LAST-MODIFIED:20260219T011002Z
UID:10002029-1774731600-1774742340@goodoldaysbarandgrill.com
SUMMARY:Wheelmen
DESCRIPTION:Blues\, Rock and Country
URL:https://goodoldaysbarandgrill.com/events/wheelmen/
ATTACH;FMTTYPE=image/webp:https://goodoldaysbarandgrill.com/wp-content/uploads/2024/11/Wheelmen.webp
END:VEVENT
BEGIN:VEVENT
DTSTART;TZID=UTC:20260329T120000
DTEND;TZID=UTC:20260329T230000
DTSTAMP:20260419T145256
CREATED:20250219T022917Z
LAST-MODIFIED:20260227T195906Z
UID:10002410-1774785600-1774825200@goodoldaysbarandgrill.com
SUMMARY:Sunday Funday cheap pitchers\, pizzas and wings
DESCRIPTION:Come finish the weekend with an $9.50 one topping pizza\, $1.00 wings and a $9.50 domestic pitcher.
URL:https://goodoldaysbarandgrill.com/events/sunday-funday-cheap-ptichers-pizzas-and-wings-2/2026-03-29/
LOCATION:Good ol’ Days Bar and Grill\, Cumming\, GA\, United States\, United States
ATTACH;FMTTYPE=image/jpeg:https://goodoldaysbarandgrill.com/wp-content/uploads/2020/09/Wings.jpg
END:VEVENT
END:VCALENDAR