BEGIN:VCALENDAR
VERSION:2.0
PRODID:-//Good ol&#039;Days Bar and Grill - ECPv6.15.20//NONSGML v1.0//EN
CALSCALE:GREGORIAN
METHOD:PUBLISH
X-ORIGINAL-URL:https://goodoldaysbarandgrill.com
X-WR-CALDESC:Events for Good ol&#039;Days Bar and Grill
REFRESH-INTERVAL;VALUE=DURATION:PT1H
X-Robots-Tag:noindex
X-PUBLISHED-TTL:PT1H
BEGIN:VTIMEZONE
TZID:UTC
BEGIN:STANDARD
TZOFFSETFROM:+0000
TZOFFSETTO:+0000
TZNAME:UTC
DTSTART:20250101T000000
END:STANDARD
END:VTIMEZONE
BEGIN:VTIMEZONE
TZID:America/New_York
BEGIN:DAYLIGHT
TZOFFSETFROM:-0500
TZOFFSETTO:-0400
TZNAME:EDT
DTSTART:20250309T070000
END:DAYLIGHT
BEGIN:STANDARD
TZOFFSETFROM:-0400
TZOFFSETTO:-0500
TZNAME:EST
DTSTART:20251102T060000
END:STANDARD
BEGIN:DAYLIGHT
TZOFFSETFROM:-0500
TZOFFSETTO:-0400
TZNAME:EDT
DTSTART:20260308T070000
END:DAYLIGHT
BEGIN:STANDARD
TZOFFSETFROM:-0400
TZOFFSETTO:-0500
TZNAME:EST
DTSTART:20261101T060000
END:STANDARD
BEGIN:DAYLIGHT
TZOFFSETFROM:-0500
TZOFFSETTO:-0400
TZNAME:EDT
DTSTART:20270314T070000
END:DAYLIGHT
BEGIN:STANDARD
TZOFFSETFROM:-0400
TZOFFSETTO:-0500
TZNAME:EST
DTSTART:20271107T060000
END:STANDARD
END:VTIMEZONE
BEGIN:VEVENT
DTSTART;TZID=UTC:20260201T120000
DTEND;TZID=UTC:20260201T230000
DTSTAMP:20260419T163114
CREATED:20250219T022917Z
LAST-MODIFIED:20260227T195906Z
UID:10002402-1769947200-1769986800@goodoldaysbarandgrill.com
SUMMARY:Sunday Funday cheap pitchers\, pizzas and wings
DESCRIPTION:Come finish the weekend with an $9.50 one topping pizza\, $1.00 wings and a $9.50 domestic pitcher.
URL:https://goodoldaysbarandgrill.com/events/sunday-funday-cheap-ptichers-pizzas-and-wings-2/2026-02-01/
LOCATION:Good ol’ Days Bar and Grill\, Cumming\, GA\, United States\, United States
ATTACH;FMTTYPE=image/jpeg:https://goodoldaysbarandgrill.com/wp-content/uploads/2020/09/Wings.jpg
END:VEVENT
BEGIN:VEVENT
DTSTART;TZID=UTC:20260202T180000
DTEND;TZID=UTC:20260202T235900
DTSTAMP:20260419T163114
CREATED:20200903T044750Z
LAST-MODIFIED:20240128T202956Z
UID:10001060-1770055200-1770076740@goodoldaysbarandgrill.com
SUMMARY:Industry Night
DESCRIPTION:Come on in and get some relief from the weekend grind. Cheap beer and cheap shots to keep more dough in your fridge. $2.50 PBR\, $9.50 Pitchers of PBR and $3.00 Kamikaze’s
URL:https://goodoldaysbarandgrill.com/events/industry-night/2026-02-02/
ATTACH;FMTTYPE=image/png:https://goodoldaysbarandgrill.com/wp-content/uploads/2020/09/Industry-night-1-1.png
END:VEVENT
BEGIN:VEVENT
DTSTART;TZID=America/New_York:20260203T110000
DTEND;TZID=America/New_York:20260203T235900
DTSTAMP:20260419T163114
CREATED:20250528T012537Z
LAST-MODIFIED:20250528T012537Z
UID:10078535-1770116400-1770163140@goodoldaysbarandgrill.com
SUMMARY:$3.00 Taco Tuesday!
DESCRIPTION:Not your skimpy street taco!  chicken or beef tacos on a full size shell with lettuce\, tomato\, onion\, cheddar jack cheese and cilantro sour cream.  Here or TOGO!
URL:https://goodoldaysbarandgrill.com/events/3-00-taco-tuesday/2026-02-03/
ATTACH;FMTTYPE=image/jpeg:https://goodoldaysbarandgrill.com/wp-content/uploads/2021/10/Taco-Tues-danny.jpg
END:VEVENT
BEGIN:VEVENT
DTSTART;TZID=UTC:20260204T110000
DTEND;TZID=UTC:20260204T235900
DTSTAMP:20260419T163114
CREATED:20220124T003952Z
LAST-MODIFIED:20250121T042526Z
UID:10002347-1770202800-1770249540@goodoldaysbarandgrill.com
SUMMARY:Wednesday Trivioke!
DESCRIPTION:So popular we had to add another day and mixing it up with some trivia too! Come sing to your heart’s content every wednesday starting at 7:30pm and answer a few questions to win house cash!  Pizza slices with 1 topping for $3.00We Have Pizza Specials!
URL:https://goodoldaysbarandgrill.com/events/total-request-video-slice-night-2024-01-03-2024-07-10/2026-02-04/
ATTACH;FMTTYPE=image/png:https://goodoldaysbarandgrill.com/wp-content/uploads/2022/01/Pub-Quiz-Karaoke.png
END:VEVENT
BEGIN:VEVENT
DTSTART;TZID=UTC:20260205T210000
DTEND;TZID=UTC:20260205T235900
DTSTAMP:20260419T163114
CREATED:20200901T073012Z
LAST-MODIFIED:20260227T195556Z
UID:10000335-1770325200-1770335940@goodoldaysbarandgrill.com
SUMMARY:Karaoke Wing and Sing Night!
DESCRIPTION:Come sing and wing at 9pm with DJ K.O.! Get here early and get some $1.50 wings with your favorite hot sauce and sing a tune or three! Wings are $1.00 each\, 5-10-15-20-50 increments \nSpicy Homemade Buffalo Wings
URL:https://goodoldaysbarandgrill.com/events/karaoke-wing-and-sing-night/2026-02-05/
ATTACH;FMTTYPE=image/jpeg:https://goodoldaysbarandgrill.com/wp-content/uploads/2020/09/My-project-1.jpg
END:VEVENT
BEGIN:VEVENT
DTSTART;TZID=America/New_York:20260206T210000
DTEND;TZID=America/New_York:20260206T235900
DTSTAMP:20260419T163114
CREATED:20240514T004700Z
LAST-MODIFIED:20260122T005442Z
UID:10001574-1770411600-1770422340@goodoldaysbarandgrill.com
SUMMARY:Bettin' on the Mule
DESCRIPTION:Bettin’ On The Mule\nJACOB WILSON \n​ \nLead Vocals \nBass \nGuitar \n​ \nPHIL BEAVERS \n​ \nLead Guitar \nVocals \nRICK NORRIS \n​ \nDrums \nVocals \nSHANNON “BEEF” WILSON \n​ \nBass \nVocals \nBiography \n‘Hometown Rock’ pioneers from Rockmart\, Georgia\, Bettin’ On The Mule represent a musical fusion that resonates with the soul of the South. Crafting music that goes beyond a genre\, the artists embody a distinctive way of life\, embracing musical diversity and celebrating the spirit of authenticity. \nDepicting a signature style which seamlessly blends Southern Rock\, Classic Rock\, and Country\, Bettin’ on the Mule present a fascinating and soulful new genre – “Hometown Rock.” \nWith their unique sound\, the artists capture the essence of their origins and bring a distinctive flavor to their performances. Led by the talented Jacob Wilson on lead vocals\, bass\, and rhythm guitar\, who also serves as the band’s lead songwriter\, Bettin’ On The Mule is a musical powerhouse. The lineup further comprises Phil Beavers on lead guitar and backing vocals\, Rick Norris on drums and backing vocals\, and Shannon “Beef” Wilson on bass and backing vocals. \nBettin’ On The Mule’s journey has been marked by a series of notable achievements. In 2022\, the band clinched victory in the Smiley’s Unique Entertainment Georgia Music Showcase. Their talent and dedication have garnered them features in prestigious publications such as the Marietta Daily Journal\, NorthWest Georgia News\, Shoutout Atlanta Magazine and more. In December 2023 the band’s new single “Long Live Country Boy” was featured on iHeartRadio and stations 94.9 Atlanta\, GA\, 105.7 Augusta\, GA and 96.5 Macon The Bull’s Backyard Country. The show also named BOTM the “Artist of the Week”. \nThe artists’ excellence earned them recognition from the International Singer Songwriter Association (ISSA)\, where they were nominated for Band of the Year\, Album of the Year (“Tag Applied For”)\, and Single of the Year (“I Think of You”) and Entertainer of the Year. Their debut single from the “Tag Applied For” album\, “Every Day and Every Night\,” made a grand entrance\, debuting at #2 on the Georgia Songbirds top ten countdown\, broadcast on indie radio stations worldwide. The band was also nominated for Band of the Year by Georgia-Country. \nBettin’ On The Mule’s musical journey has been punctuated by their discography. Their debut album\, “All In\,” released in 2019\, laid the foundation for their sound. Following this\, their EP “Tag Applied For\,” released in 2021\, showcased the artist’s evolving artistry and band ethos. \nThe eclectic band continues to make waves with their latest single\, “Long Live Country Boy” being played on iHeart Radio stations 94.9 and 105.7 The Bull’s Backyard Country. The band was also spotlighted as the Backyard Country Artist of the Week. BOTM has released their newest EP “Redneck Rocker\,” and the title track was featured on The Georgia Songbirds Radio for New Music Monday. The artist’s two most recent EP releases were recorded at the studio of Jackyl lead singer Jessie James Dupree’s Cock of the Walk Studio. As well as\, produced and engineered by acclaimed engineer Jeff Tomei. \nSculpting their own melodic canvas\, Bettin’ On The Mule’s music resonates with depth and meaning. Their track “I Think of You” delves into the intricate emotions of love\, where a song becomes a gateway to treasured memories. “Every Day and Every Night” captures the spirit of enjoyment and relationships\, traversing the journey of coming together and parting ways. \nMembers have been honored to have opened for National\, Regional and Local acts such as The Lacs\, The Georgia Thunderbolts\, Jeff Rogers Band\, \nKinchafoonee Cowboys\, Quiet Riot\, Drivin N Cryin\, Michael Allman\, Humble Pie and more. \nThe band has played many exciting venues all over the southeast including\, The Cave Spring Motorcycle Rally and Musicfest\, Angel City Motorcycle Rally\, Sixes Tavern\, Madlife Stage & Studios\, Chattahoochee Mountain Fair\, The Great Locomotive Chase Festival\, The Cleburne County Fair (Alabama) and Kennesaw Pigs n Peaches BBQ Festival and Polk Country Fair just to name a few. \nAs their journey unfolds\, Bettin’ On The Mule remains dedicated to delivering electrifying live shows\, gaining new fans and crafting exceptional music for the times to come. Bringing their “Hometown Rock” to the masses.
URL:https://goodoldaysbarandgrill.com/events/bettin-on-the-mule/
ATTACH;FMTTYPE=image/jpeg:https://goodoldaysbarandgrill.com/wp-content/uploads/2024/05/bettingonthemule.jpg
END:VEVENT
BEGIN:VEVENT
DTSTART;TZID=UTC:20260208T120000
DTEND;TZID=UTC:20260208T230000
DTSTAMP:20260419T163114
CREATED:20250219T022917Z
LAST-MODIFIED:20260227T195906Z
UID:10002403-1770552000-1770591600@goodoldaysbarandgrill.com
SUMMARY:Sunday Funday cheap pitchers\, pizzas and wings
DESCRIPTION:Come finish the weekend with an $9.50 one topping pizza\, $1.00 wings and a $9.50 domestic pitcher.
URL:https://goodoldaysbarandgrill.com/events/sunday-funday-cheap-ptichers-pizzas-and-wings-2/2026-02-08/
LOCATION:Good ol’ Days Bar and Grill\, Cumming\, GA\, United States\, United States
ATTACH;FMTTYPE=image/jpeg:https://goodoldaysbarandgrill.com/wp-content/uploads/2020/09/Wings.jpg
END:VEVENT
BEGIN:VEVENT
DTSTART;TZID=UTC:20260209T180000
DTEND;TZID=UTC:20260209T235900
DTSTAMP:20260419T163114
CREATED:20200903T044750Z
LAST-MODIFIED:20240128T202956Z
UID:10001061-1770660000-1770681540@goodoldaysbarandgrill.com
SUMMARY:Industry Night
DESCRIPTION:Come on in and get some relief from the weekend grind. Cheap beer and cheap shots to keep more dough in your fridge. $2.50 PBR\, $9.50 Pitchers of PBR and $3.00 Kamikaze’s
URL:https://goodoldaysbarandgrill.com/events/industry-night/2026-02-09/
ATTACH;FMTTYPE=image/png:https://goodoldaysbarandgrill.com/wp-content/uploads/2020/09/Industry-night-1-1.png
END:VEVENT
BEGIN:VEVENT
DTSTART;TZID=America/New_York:20260210T110000
DTEND;TZID=America/New_York:20260210T235900
DTSTAMP:20260419T163114
CREATED:20250528T012537Z
LAST-MODIFIED:20250528T012537Z
UID:10078536-1770721200-1770767940@goodoldaysbarandgrill.com
SUMMARY:$3.00 Taco Tuesday!
DESCRIPTION:Not your skimpy street taco!  chicken or beef tacos on a full size shell with lettuce\, tomato\, onion\, cheddar jack cheese and cilantro sour cream.  Here or TOGO!
URL:https://goodoldaysbarandgrill.com/events/3-00-taco-tuesday/2026-02-10/
ATTACH;FMTTYPE=image/jpeg:https://goodoldaysbarandgrill.com/wp-content/uploads/2021/10/Taco-Tues-danny.jpg
END:VEVENT
BEGIN:VEVENT
DTSTART;TZID=UTC:20260212T210000
DTEND;TZID=UTC:20260212T235900
DTSTAMP:20260419T163114
CREATED:20200901T073012Z
LAST-MODIFIED:20260227T195556Z
UID:10000336-1770930000-1770940740@goodoldaysbarandgrill.com
SUMMARY:Karaoke Wing and Sing Night!
DESCRIPTION:Come sing and wing at 9pm with DJ K.O.! Get here early and get some $1.50 wings with your favorite hot sauce and sing a tune or three! Wings are $1.00 each\, 5-10-15-20-50 increments \nSpicy Homemade Buffalo Wings
URL:https://goodoldaysbarandgrill.com/events/karaoke-wing-and-sing-night/2026-02-12/
ATTACH;FMTTYPE=image/jpeg:https://goodoldaysbarandgrill.com/wp-content/uploads/2020/09/My-project-1.jpg
END:VEVENT
BEGIN:VEVENT
DTSTART;TZID=America/New_York:20260213T210000
DTEND;TZID=America/New_York:20260213T235900
DTSTAMP:20260419T163114
CREATED:20250930T030005Z
LAST-MODIFIED:20260122T005557Z
UID:10078666-1771016400-1771027140@goodoldaysbarandgrill.com
SUMMARY:Crane & Co
DESCRIPTION:Crane Co. is a band out of Metro Atlanta founded by brothers Michael and Kimble Crane with the addition of a third brotha-from-anotha-motha Zion Stovall.
URL:https://goodoldaysbarandgrill.com/events/crane-co/
ATTACH;FMTTYPE=image/jpeg:https://goodoldaysbarandgrill.com/wp-content/uploads/2025/09/Crane-Co.jpg
END:VEVENT
BEGIN:VEVENT
DTSTART;TZID=America/New_York:20260214T210000
DTEND;TZID=America/New_York:20260214T235900
DTSTAMP:20260419T163114
CREATED:20250619T000559Z
LAST-MODIFIED:20260122T005638Z
UID:10078628-1771102800-1771113540@goodoldaysbarandgrill.com
SUMMARY:4 Gone
DESCRIPTION:Tribute to rock and alternative hits from the 90’s\, and 2000’s
URL:https://goodoldaysbarandgrill.com/events/4-gone/
ATTACH;FMTTYPE=image/jpeg:https://goodoldaysbarandgrill.com/wp-content/uploads/2025/06/4gone.jpg
END:VEVENT
BEGIN:VEVENT
DTSTART;TZID=UTC:20260215T120000
DTEND;TZID=UTC:20260215T230000
DTSTAMP:20260419T163114
CREATED:20250219T022917Z
LAST-MODIFIED:20260227T195906Z
UID:10002404-1771156800-1771196400@goodoldaysbarandgrill.com
SUMMARY:Sunday Funday cheap pitchers\, pizzas and wings
DESCRIPTION:Come finish the weekend with an $9.50 one topping pizza\, $1.00 wings and a $9.50 domestic pitcher.
URL:https://goodoldaysbarandgrill.com/events/sunday-funday-cheap-ptichers-pizzas-and-wings-2/2026-02-15/
LOCATION:Good ol’ Days Bar and Grill\, Cumming\, GA\, United States\, United States
ATTACH;FMTTYPE=image/jpeg:https://goodoldaysbarandgrill.com/wp-content/uploads/2020/09/Wings.jpg
END:VEVENT
BEGIN:VEVENT
DTSTART;TZID=UTC:20260216T180000
DTEND;TZID=UTC:20260216T235900
DTSTAMP:20260419T163114
CREATED:20200903T044750Z
LAST-MODIFIED:20240128T202956Z
UID:10001062-1771264800-1771286340@goodoldaysbarandgrill.com
SUMMARY:Industry Night
DESCRIPTION:Come on in and get some relief from the weekend grind. Cheap beer and cheap shots to keep more dough in your fridge. $2.50 PBR\, $9.50 Pitchers of PBR and $3.00 Kamikaze’s
URL:https://goodoldaysbarandgrill.com/events/industry-night/2026-02-16/
ATTACH;FMTTYPE=image/png:https://goodoldaysbarandgrill.com/wp-content/uploads/2020/09/Industry-night-1-1.png
END:VEVENT
BEGIN:VEVENT
DTSTART;TZID=America/New_York:20260217T110000
DTEND;TZID=America/New_York:20260217T235900
DTSTAMP:20260419T163114
CREATED:20250528T012537Z
LAST-MODIFIED:20250528T012537Z
UID:10078537-1771326000-1771372740@goodoldaysbarandgrill.com
SUMMARY:$3.00 Taco Tuesday!
DESCRIPTION:Not your skimpy street taco!  chicken or beef tacos on a full size shell with lettuce\, tomato\, onion\, cheddar jack cheese and cilantro sour cream.  Here or TOGO!
URL:https://goodoldaysbarandgrill.com/events/3-00-taco-tuesday/2026-02-17/
ATTACH;FMTTYPE=image/jpeg:https://goodoldaysbarandgrill.com/wp-content/uploads/2021/10/Taco-Tues-danny.jpg
END:VEVENT
BEGIN:VEVENT
DTSTART;TZID=UTC:20260218T193000
DTEND;TZID=UTC:20260218T235900
DTSTAMP:20260419T163114
CREATED:20260219T005542Z
LAST-MODIFIED:20260219T005637Z
UID:10002348-1771443000-1771459140@goodoldaysbarandgrill.com
SUMMARY:Wednesday Trivioke!
DESCRIPTION:So popular we had to add another day and mixing it up with some trivia too! Come sing to your heart’s content every wednesday starting at 7:30pm and answer a few questions to win house cash! Pizza slices with 1 topping for $3.00 \nWe Have Pizza Specials!
URL:https://goodoldaysbarandgrill.com/events/total-request-video-slice-night-2024-01-03-2024-07-10-2/2026-02-18/
ATTACH;FMTTYPE=image/png:https://goodoldaysbarandgrill.com/wp-content/uploads/2022/01/Pub-Quiz-Karaoke.png
END:VEVENT
BEGIN:VEVENT
DTSTART;TZID=UTC:20260219T210000
DTEND;TZID=UTC:20260219T235900
DTSTAMP:20260419T163114
CREATED:20200901T073012Z
LAST-MODIFIED:20260227T195556Z
UID:10000337-1771534800-1771545540@goodoldaysbarandgrill.com
SUMMARY:Karaoke Wing and Sing Night!
DESCRIPTION:Come sing and wing at 9pm with DJ K.O.! Get here early and get some $1.50 wings with your favorite hot sauce and sing a tune or three! Wings are $1.00 each\, 5-10-15-20-50 increments \nSpicy Homemade Buffalo Wings
URL:https://goodoldaysbarandgrill.com/events/karaoke-wing-and-sing-night/2026-02-19/
ATTACH;FMTTYPE=image/jpeg:https://goodoldaysbarandgrill.com/wp-content/uploads/2020/09/My-project-1.jpg
END:VEVENT
BEGIN:VEVENT
DTSTART;TZID=America/New_York:20260221T210000
DTEND;TZID=America/New_York:20260221T235900
DTSTAMP:20260419T163114
CREATED:20250619T001534Z
LAST-MODIFIED:20260122T005804Z
UID:10078629-1771707600-1771718340@goodoldaysbarandgrill.com
SUMMARY:B4Y2K
DESCRIPTION:B4Y2K is bringing the nostalgic 90’s to Atlanta and beyond! Friends & veteran musicians joined forces to play the songs from the CDs in their binders and strapped to their car visors! We’re drumming up the spirit of an iconic decade\, come party with us!
URL:https://goodoldaysbarandgrill.com/events/b4y2k/
ATTACH;FMTTYPE=image/jpeg:https://goodoldaysbarandgrill.com/wp-content/uploads/2025/06/b4y2k.jpg
END:VEVENT
BEGIN:VEVENT
DTSTART;TZID=UTC:20260222T120000
DTEND;TZID=UTC:20260222T230000
DTSTAMP:20260419T163114
CREATED:20250219T022917Z
LAST-MODIFIED:20260227T195906Z
UID:10002405-1771761600-1771801200@goodoldaysbarandgrill.com
SUMMARY:Sunday Funday cheap pitchers\, pizzas and wings
DESCRIPTION:Come finish the weekend with an $9.50 one topping pizza\, $1.00 wings and a $9.50 domestic pitcher.
URL:https://goodoldaysbarandgrill.com/events/sunday-funday-cheap-ptichers-pizzas-and-wings-2/2026-02-22/
LOCATION:Good ol’ Days Bar and Grill\, Cumming\, GA\, United States\, United States
ATTACH;FMTTYPE=image/jpeg:https://goodoldaysbarandgrill.com/wp-content/uploads/2020/09/Wings.jpg
END:VEVENT
BEGIN:VEVENT
DTSTART;TZID=UTC:20260223T180000
DTEND;TZID=UTC:20260223T235900
DTSTAMP:20260419T163114
CREATED:20200903T044750Z
LAST-MODIFIED:20240128T202956Z
UID:10001063-1771869600-1771891140@goodoldaysbarandgrill.com
SUMMARY:Industry Night
DESCRIPTION:Come on in and get some relief from the weekend grind. Cheap beer and cheap shots to keep more dough in your fridge. $2.50 PBR\, $9.50 Pitchers of PBR and $3.00 Kamikaze’s
URL:https://goodoldaysbarandgrill.com/events/industry-night/2026-02-23/
ATTACH;FMTTYPE=image/png:https://goodoldaysbarandgrill.com/wp-content/uploads/2020/09/Industry-night-1-1.png
END:VEVENT
BEGIN:VEVENT
DTSTART;TZID=America/New_York:20260224T110000
DTEND;TZID=America/New_York:20260224T235900
DTSTAMP:20260419T163114
CREATED:20250528T012537Z
LAST-MODIFIED:20250528T012537Z
UID:10078538-1771930800-1771977540@goodoldaysbarandgrill.com
SUMMARY:$3.00 Taco Tuesday!
DESCRIPTION:Not your skimpy street taco!  chicken or beef tacos on a full size shell with lettuce\, tomato\, onion\, cheddar jack cheese and cilantro sour cream.  Here or TOGO!
URL:https://goodoldaysbarandgrill.com/events/3-00-taco-tuesday/2026-02-24/
ATTACH;FMTTYPE=image/jpeg:https://goodoldaysbarandgrill.com/wp-content/uploads/2021/10/Taco-Tues-danny.jpg
END:VEVENT
BEGIN:VEVENT
DTSTART;TZID=UTC:20260225T193000
DTEND;TZID=UTC:20260225T235900
DTSTAMP:20260419T163114
CREATED:20260219T005542Z
LAST-MODIFIED:20260219T005637Z
UID:10078714-1772047800-1772063940@goodoldaysbarandgrill.com
SUMMARY:Wednesday Trivioke!
DESCRIPTION:So popular we had to add another day and mixing it up with some trivia too! Come sing to your heart’s content every wednesday starting at 7:30pm and answer a few questions to win house cash! Pizza slices with 1 topping for $3.00 \nWe Have Pizza Specials!
URL:https://goodoldaysbarandgrill.com/events/total-request-video-slice-night-2024-01-03-2024-07-10-2/2026-02-25/
ATTACH;FMTTYPE=image/png:https://goodoldaysbarandgrill.com/wp-content/uploads/2022/01/Pub-Quiz-Karaoke.png
END:VEVENT
BEGIN:VEVENT
DTSTART;TZID=UTC:20260226T210000
DTEND;TZID=UTC:20260226T235900
DTSTAMP:20260419T163114
CREATED:20200901T073012Z
LAST-MODIFIED:20260227T195556Z
UID:10000338-1772139600-1772150340@goodoldaysbarandgrill.com
SUMMARY:Karaoke Wing and Sing Night!
DESCRIPTION:Come sing and wing at 9pm with DJ K.O.! Get here early and get some $1.50 wings with your favorite hot sauce and sing a tune or three! Wings are $1.00 each\, 5-10-15-20-50 increments \nSpicy Homemade Buffalo Wings
URL:https://goodoldaysbarandgrill.com/events/karaoke-wing-and-sing-night/2026-02-26/
ATTACH;FMTTYPE=image/jpeg:https://goodoldaysbarandgrill.com/wp-content/uploads/2020/09/My-project-1.jpg
END:VEVENT
BEGIN:VEVENT
DTSTART;TZID=UTC:20260227T210000
DTEND;TZID=UTC:20260227T235900
DTSTAMP:20260419T163114
CREATED:20210223T050037Z
LAST-MODIFIED:20260122T005851Z
UID:10001596-1772226000-1772236740@goodoldaysbarandgrill.com
SUMMARY:Nick and the Knacks
DESCRIPTION:Playing tunes from Aerosmith to Lenny Kravitz\, Tom Petty to Pearl Jam\, and everything in between. Nick & The Knacks are sure to keep the energy high and the hits coming!
URL:https://goodoldaysbarandgrill.com/events/nick-and-the-knacks/
LOCATION:Good ol’ Days Bar and Grill\, Cumming\, GA\, United States\, United States
ATTACH;FMTTYPE=image/jpeg:https://goodoldaysbarandgrill.com/wp-content/uploads/2021/02/knick-and-the-knacks.jpg
END:VEVENT
BEGIN:VEVENT
DTSTART;TZID=UTC:20260228T210000
DTEND;TZID=UTC:20260228T235900
DTSTAMP:20260419T163114
CREATED:20210203T052941Z
LAST-MODIFIED:20260122T005940Z
UID:10001591-1772312400-1772323140@goodoldaysbarandgrill.com
SUMMARY:Shotgun Orchestra
DESCRIPTION:Shotgun Orchestra is an Atlanta\, GA based rock band. High energy 90s Party Rock and Classic Hits for your live venue or private event!\n\n\nPerforming selections from Foo Fighters\, Lenny Kravitz\, Stone Temple Pilots\, AC/DC\, Guns N’ Roses\, RATM\, Led Zeppelin\, Weezer\, ZZ Top and many others!
URL:https://goodoldaysbarandgrill.com/events/shotgun-orchestra-2/
LOCATION:Good ol’ Days Bar and Grill\, Cumming\, GA\, United States\, United States
ATTACH;FMTTYPE=image/jpeg:https://goodoldaysbarandgrill.com/wp-content/uploads/2020/09/Shotgun-Orchestra.jpg
END:VEVENT
END:VCALENDAR