BEGIN:VCALENDAR
VERSION:2.0
PRODID:-//Good ol&#039;Days Bar and Grill - ECPv6.15.20//NONSGML v1.0//EN
CALSCALE:GREGORIAN
METHOD:PUBLISH
X-WR-CALNAME:Good ol&#039;Days Bar and Grill
X-ORIGINAL-URL:https://goodoldaysbarandgrill.com
X-WR-CALDESC:Events for Good ol&#039;Days Bar and Grill
REFRESH-INTERVAL;VALUE=DURATION:PT1H
X-Robots-Tag:noindex
X-PUBLISHED-TTL:PT1H
BEGIN:VTIMEZONE
TZID:UTC
BEGIN:STANDARD
TZOFFSETFROM:+0000
TZOFFSETTO:+0000
TZNAME:UTC
DTSTART:20250101T000000
END:STANDARD
END:VTIMEZONE
BEGIN:VEVENT
DTSTART;TZID=UTC:20260420T180000
DTEND;TZID=UTC:20260420T235900
DTSTAMP:20260420T013215
CREATED:20200903T044750Z
LAST-MODIFIED:20240128T202956Z
UID:10001071-1776708000-1776729540@goodoldaysbarandgrill.com
SUMMARY:Industry Night
DESCRIPTION:Come on in and get some relief from the weekend grind. Cheap beer and cheap shots to keep more dough in your fridge. $2.50 PBR\, $9.50 Pitchers of PBR and $3.00 Kamikaze’s
URL:https://goodoldaysbarandgrill.com/events/industry-night/2026-04-20/
ATTACH;FMTTYPE=image/png:https://goodoldaysbarandgrill.com/wp-content/uploads/2020/09/Industry-night-1-1.png
END:VEVENT
END:VCALENDAR